BEGIN:VCALENDAR
VERSION:2.0
PRODID:Events Booking
BEGIN:VEVENT
UID:69e9d8373d1c2
SUMMARY:Walk: The Athelstan 1100 Pilgrim Way - Malmesbury to Kingston 2025
DESCRIPTION:
 Join the Mayor of Malmesbury on a unique walk from Malmesbur
 y in North Wiltshire to Kingston upon Thames.
 In 2024 Malmesbury in Nort
 h Wiltshire celebrated the 1100th anniversary of Athelstan becoming king. 
 On September 4th 2025 Kingston upon Thames is celebrating the 1100th anniv
 esary of Athelstan's coronation as the King of Wessex and Mercia. 
 To h
 ighlight the connection between these events the Athelstan Pilgrim Way\, a
  popular network of footpaths and cycleways across North Wiltshire\, is be
 ing extended to Kingston for a special event\; a symbolic walk with a crow
 n from Malmesbury to Kingston\, arriving in Kingston on the anniversary of
  the coronation.
 The walk will take place over 11 days - divided into th
 ree blocks of days - and starts on Monday 18th August. It arrives in Kings
 ton at 10:30am on Thursday 4th September (with a cycling group) to partici
 pate in a reception. You can choose to be on all the stages\, some of the 
 stages\, one of the stages or part of a stage. It is a great chance to inv
 olve family\, friends and meet others along the way. Might you be interest
 ed in taking part? Email us at hello@athelstan1100.co.uk or register here 
 and we'll send you more information. 
 
LOCATION:Gloucester St\, Malmesbury\, SN16 0AA
DTSTART:20250904T090000Z
DTEND:20250904T103000Z
DTSTAMP:20250413T093330Z
ORGANIZER;CN=Athelstan 1100:MAILTO:website@athelstan1100.co.uk
GEO:51.58467;-2.09834
X-APPLE-STRUCTURED-LOCATION;VALUE=URI;X-ADDRESS=Gloucester St\, Malmesbury\
 , SN16 0AA;X-APPLE-RADIUS=72;X-TITLE=Malmesbury Abbey:51.58467;-2.09834
END:VEVENT
END:VCALENDAR